BEGIN:VCALENDAR
VERSION:2.0
PRODID:icalendar-ruby
CALSCALE:GREGORIAN
METHOD:PUBLISH
BEGIN:VEVENT
DTSTAMP:20260421T085924Z
UID:5-460805@radianceroanoke.org
DTSTART:20261018T143000Z
DTEND:20261018T153000Z
CLASS:PUBLIC
CREATED:20260420T210626
DESCRIPTION:
LAST-MODIFIED:20260420T210626
LOCATION:
SUMMARY:Sunday Worship
URL;VALUE=URI:https://www.radianceroanoke.org/events/sunday-worship/2026-10
 -18
END:VEVENT
END:VCALENDAR
